BEGIN:VCALENDAR
VERSION:2.0
PRODID:-//Osprey Fly Fishers of B.C. - ECPv6.9.0//NONSGML v1.0//EN
CALSCALE:GREGORIAN
METHOD:PUBLISH
X-ORIGINAL-URL:https://www.ospreyflyfishers.com
X-WR-CALDESC:Events for Osprey Fly Fishers of B.C.
REFRESH-INTERVAL;VALUE=DURATION:PT1H
X-Robots-Tag:noindex
X-PUBLISHED-TTL:PT1H
BEGIN:VTIMEZONE
TZID:UTC
BEGIN:STANDARD
TZOFFSETFROM:+0000
TZOFFSETTO:+0000
TZNAME:UTC
DTSTART:20250101T000000
END:STANDARD
END:VTIMEZONE
BEGIN:VEVENT
DTSTART;TZID=UTC:20250502T000000
DTEND;TZID=UTC:20250504T235900
DTSTAMP:20260423T105143
CREATED:20250102T152819Z
LAST-MODIFIED:20250203T043506Z
UID:4639-1746144000-1746403140@www.ospreyflyfishers.com
SUMMARY:FISH OUT - Rainbow Trout at Corbett Lake
DESCRIPTION:Large Rainbow Trout – Stocked with fish weighing 2 lbs or more every spring.\nAccommodation: One side of large duplex reserved for Ospreys. May be full. Check with Bruce.\nPay fishery. Reservations will be required.\nVisit www.corbettlake.ca for details.
URL:https://www.ospreyflyfishers.com/event/fish-out-rainbow-trout-at-corbett-lake/
END:VEVENT
END:VCALENDAR