BEGIN:VCALENDAR
VERSION:2.0
PRODID:-//Osprey Fly Fishers of B.C. - ECPv6.9.0//NONSGML v1.0//EN
CALSCALE:GREGORIAN
METHOD:PUBLISH
X-WR-CALNAME:Osprey Fly Fishers of B.C.
X-ORIGINAL-URL:https://www.ospreyflyfishers.com
X-WR-CALDESC:Events for Osprey Fly Fishers of B.C.
REFRESH-INTERVAL;VALUE=DURATION:PT1H
X-Robots-Tag:noindex
X-PUBLISHED-TTL:PT1H
BEGIN:VTIMEZONE
TZID:UTC
BEGIN:STANDARD
TZOFFSETFROM:+0000
TZOFFSETTO:+0000
TZNAME:UTC
DTSTART:20250101T000000
END:STANDARD
END:VTIMEZONE
BEGIN:VEVENT
DTSTART;TZID=UTC:20250402T080000
DTEND;TZID=UTC:20250402T170000
DTSTAMP:20260423T121326
CREATED:20250401T133844Z
LAST-MODIFIED:20250401T133930Z
UID:4702-1743580800-1743613200@www.ospreyflyfishers.com
SUMMARY:Executive Meeting - Dinner Meeting
DESCRIPTION:No Guests \n\nAll Members are welcome to attend. \nPreparation of Agenda for AGM.\nPasta Pollo (2754 Barnet Hwy\, Coquitlam)\nRSVP to Bruce.
URL:https://www.ospreyflyfishers.com/event/executive-meeting-dinner-meeting/
END:VEVENT
BEGIN:VEVENT
DTSTART;TZID=UTC:20250406T080000
DTEND;TZID=UTC:20250406T170000
DTSTAMP:20260423T121326
CREATED:20250401T134333Z
LAST-MODIFIED:20250401T134333Z
UID:4705-1743926400-1743958800@www.ospreyflyfishers.com
SUMMARY:Spey Clave - Michael & Young Spey Clave
DESCRIPTION:Entrance Bay\, Cultus Lake.\nFood\nSpey casting presentations\nPlay with new spey casting gear.\nBCFFF and Ospreys man tent to sell Raffle Tickets for draw later in day.\nVolunteers needed. If interested in helping\, contact Peter Caverhill.
URL:https://www.ospreyflyfishers.com/event/spey-clave-michael-young-spey-clave/
END:VEVENT
BEGIN:VEVENT
DTSTART;VALUE=DATE:20250412
DTEND;VALUE=DATE:20250413
DTSTAMP:20260423T121326
CREATED:20250102T152813Z
LAST-MODIFIED:20250127T190304Z
UID:4634-1744416000-1744502399@www.ospreyflyfishers.com
SUMMARY:FISH OUT - Cutthroat Trout - Harrison River / Nicomen Slough
DESCRIPTION:Breakfast Location: Rocco’s Diner\, Mission\nBreakfast Time: 7:30 am\nAlternate Location: Sunshine Coast – dependent on tides
URL:https://www.ospreyflyfishers.com/event/fish-out-cutthroat-trout-harrison-river-nicomen-slough/
END:VEVENT
BEGIN:VEVENT
DTSTART;TZID=UTC:20250413T080000
DTEND;TZID=UTC:20250413T170000
DTSTAMP:20260423T121326
CREATED:20250401T134911Z
LAST-MODIFIED:20250401T134911Z
UID:4707-1744531200-1744563600@www.ospreyflyfishers.com
SUMMARY:Club Outing - Tour of Richard Henly Fish Farm (Inland Farmed Sockeye Salmon)
DESCRIPTION:Important Parking Notice: See the April 2025 Newsletter \n\nTour Guide: Larry Albright\, one of the founding partners of the fish farm.\nLocation: 24831 – 80th Ave. Langley. Time: 10:30 am\nTour of farm to be followed by Q & A with coffee and donuts.
URL:https://www.ospreyflyfishers.com/event/club-outing-tour-of-richard-henly-fish-farm-inland-farmed-sockeye-salmon/
END:VEVENT
BEGIN:VEVENT
DTSTART;VALUE=DATE:20250416
DTEND;VALUE=DATE:20250417
DTSTAMP:20260423T121326
CREATED:20250102T152818Z
LAST-MODIFIED:20250401T135042Z
UID:4638-1744761600-1744847999@www.ospreyflyfishers.com
SUMMARY:METHOD SESSION - Dubbing Materials & Techniques (Update)
DESCRIPTION:Presented by Osprey Members.\nMaterials – new & old\, natural & synthetic. Choosing the right dubbing!\nTechniques: Touch\, Split Thread\, Dubbing Loops & Brushes
URL:https://www.ospreyflyfishers.com/event/method-session-bamboo-rod-building/
END:VEVENT
END:VCALENDAR