BEGIN:VCALENDAR
VERSION:2.0
PRODID:-//Osprey Fly Fishers of B.C. - ECPv6.9.0//NONSGML v1.0//EN
CALSCALE:GREGORIAN
METHOD:PUBLISH
X-WR-CALNAME:Osprey Fly Fishers of B.C.
X-ORIGINAL-URL:https://www.ospreyflyfishers.com
X-WR-CALDESC:Events for Osprey Fly Fishers of B.C.
REFRESH-INTERVAL;VALUE=DURATION:PT1H
X-Robots-Tag:noindex
X-PUBLISHED-TTL:PT1H
BEGIN:VTIMEZONE
TZID:UTC
BEGIN:STANDARD
TZOFFSETFROM:+0000
TZOFFSETTO:+0000
TZNAME:UTC
DTSTART:20260101T000000
END:STANDARD
END:VTIMEZONE
BEGIN:VEVENT
DTSTART;TZID=UTC:20260412T093000
DTEND;TZID=UTC:20260412T160000
DTSTAMP:20260420T003823
CREATED:20260324T211319Z
LAST-MODIFIED:20260324T211319Z
UID:4990-1775986200-1776009600@www.ospreyflyfishers.com
SUMMARY:Michael & Young Spey Day ~ Entrance Bay Day Park ~ Cultus Lake
DESCRIPTION:Full day (9:30 am to 4:00 pm) of fun\, food\, presentations\, and an opportunity to play with some of the new rods\, reels\, and lines currently on the market.\nVolunteers needed to sell Raffle Tickets. Contact Peter Caverhill.
URL:https://www.ospreyflyfishers.com/event/michael-young-spey-day-entrance-bay-day-park-cultus-lake/
CATEGORIES:Fish out
END:VEVENT
BEGIN:VEVENT
DTSTART;TZID=UTC:20260415T193000
DTEND;TZID=UTC:20260415T213000
DTSTAMP:20260420T003823
CREATED:20260318T170959Z
LAST-MODIFIED:20260318T170959Z
UID:4980-1776281400-1776288600@www.ospreyflyfishers.com
SUMMARY:Method Session - Fly Tying Demonstration:  Brandon Molzahn ~ Stillwater Patterns
DESCRIPTION:Pro Staff Member at Semperfli\, Togens and Dr Slick Company.        \nGuide with Interior Fly Fishing Company – Okanagan and Thompson Regions \nLive Zoom Presentation at Coquitlam Legion. Q&A to follow.
URL:https://www.ospreyflyfishers.com/event/method-session-fly-tying-demonstration-brandon-molzahn-stillwater-patterns-2/
END:VEVENT
BEGIN:VEVENT
DTSTART;TZID=UTC:20260418T073000
DTEND;TZID=UTC:20260418T140000
DTSTAMP:20260420T003823
CREATED:20260318T171102Z
LAST-MODIFIED:20260318T171437Z
UID:4982-1776497400-1776520800@www.ospreyflyfishers.com
SUMMARY:Fish Out - Cutthroat on Stave or Harrison River / Nicomen Slough
DESCRIPTION:Breakfast: 7:30 am – Rocko’s Diner (32786 Lougheed Hwy.\, Mission)\nBreak into groups from there and head to various locations.
URL:https://www.ospreyflyfishers.com/event/fish-out-cutthroat-on-stave-or-harrison-river-nicomen-slough/
CATEGORIES:Fish out
END:VEVENT
BEGIN:VEVENT
DTSTART;VALUE=DATE:20260501
DTEND;VALUE=DATE:20260504
DTSTAMP:20260420T003823
CREATED:20260318T171220Z
LAST-MODIFIED:20260318T171220Z
UID:4984-1777593600-1777852799@www.ospreyflyfishers.com
SUMMARY:Fish Out - Rainbow Trout at Corbett Lake Lodge
DESCRIPTION:Large Rainbow Trout – Stocked with fish weighing 2 lbs or more every spring.\nOne side of large duplex reserved for Ospreys. May be full. Check with Bruce\nPay fishery. Reservations will be required. www.corbettlake.ca
URL:https://www.ospreyflyfishers.com/event/fish-out-rainbow-trout-at-corbett-lake-lodge/
CATEGORIES:Fish out
END:VEVENT
BEGIN:VEVENT
DTSTART;TZID=UTC:20260513T193000
DTEND;TZID=UTC:20260513T213000
DTSTAMP:20260420T003823
CREATED:20260324T211546Z
LAST-MODIFIED:20260324T211546Z
UID:4992-1778700600-1778707800@www.ospreyflyfishers.com
SUMMARY:Slideshow Presentation - Fly Fishing around Missoula\, Montana.
DESCRIPTION:Presenter: Steve Slater.\nMissoula is known for its blue-ribbon trout fishing (made famous by A River Runs Through It). Focus will be on Blackfoot\, Bitterroot\, and Clark Fork rivers.\nSteve will discuss the region\, getting there\, fly fishing culture and costs.
URL:https://www.ospreyflyfishers.com/event/slideshow-presentation-fly-fishing-around-missoula-montana/
CATEGORIES:Regular Meeting
END:VEVENT
BEGIN:VEVENT
DTSTART;VALUE=DATE:20260517
DTEND;VALUE=DATE:20260524
DTSTAMP:20260420T003823
CREATED:20260324T211130Z
LAST-MODIFIED:20260324T211130Z
UID:4988-1778976000-1779580799@www.ospreyflyfishers.com
SUMMARY:Rainbow Trout @ Tunkwa Lake
DESCRIPTION:Offers a wide range of accommodations (cabins\, RV sites and tent sites).\nPotluck dinner being arranged for Thursday\, May 21.\nArnold Arce is coordinating. Contact him for more information.\nReservations will be required. www.tunkwalakeresort.com
URL:https://www.ospreyflyfishers.com/event/rainbow-trout-tunkwa-lake/
END:VEVENT
BEGIN:VEVENT
DTSTART;TZID=UTC:20260520T193000
DTEND;TZID=UTC:20260520T210000
DTSTAMP:20260420T003823
CREATED:20260324T211621Z
LAST-MODIFIED:20260418T215642Z
UID:4994-1779305400-1779310800@www.ospreyflyfishers.com
SUMMARY:Method Session - Fly Tying Demonstration:  Chironomids with Andre Stepanion
DESCRIPTION:Presenter: Andre Stepanian\, Frenzie Flies.\nA professional fly tyer\, Andre also teaches both fly fishing and fly tying.\nHe is also Pro-staff for Partridge of Redditch hooks\, Lagartun and Raidzap.
URL:https://www.ospreyflyfishers.com/event/method-session-tbd/
CATEGORIES:Method session
END:VEVENT
BEGIN:VEVENT
DTSTART;VALUE=DATE:20260605
DTEND;VALUE=DATE:20260610
DTSTAMP:20260420T003823
CREATED:20260324T211828Z
LAST-MODIFIED:20260325T030628Z
UID:4996-1780617600-1781049599@www.ospreyflyfishers.com
SUMMARY:Rainbow Trout at Knouff Lake Resort
DESCRIPTION:In addition to Knouff Lake\, Community and Badger Lakes can also be fished.\nOffers a wide range of accommodations (cabins\, RV sites and tent sites).\nPotluck dinner will be held on Saturday night.\nReservations will be required. www.knoufflakeresort.com
URL:https://www.ospreyflyfishers.com/event/rainbow-trout-at-knouff-lake-resort/
CATEGORIES:Fish out
END:VEVENT
BEGIN:VEVENT
DTSTART;TZID=UTC:20260610T193000
DTEND;TZID=UTC:20260610T210000
DTSTAMP:20260420T003823
CREATED:20260324T211917Z
LAST-MODIFIED:20260324T211917Z
UID:4998-1781119800-1781125200@www.ospreyflyfishers.com
SUMMARY:Regular Meeting - Agenda TBD
DESCRIPTION:
URL:https://www.ospreyflyfishers.com/event/regular-meeting-agenda-tbd/
CATEGORIES:Regular Meeting
END:VEVENT
BEGIN:VEVENT
DTSTART;TZID=UTC:20260617T193000
DTEND;TZID=UTC:20260617T210000
DTSTAMP:20260420T003823
CREATED:20260324T212123Z
LAST-MODIFIED:20260324T212123Z
UID:5000-1781724600-1781730000@www.ospreyflyfishers.com
SUMMARY:“Fly Casting Session with Peter Caverhill \, Certified Casting Instructor
DESCRIPTION:Focus of Session to be determined. Stay turned.\nWhere: Como Lake Middle School Oval (Porter St & King Albert)\nFood & Libations to follow: John B Pub
URL:https://www.ospreyflyfishers.com/event/fly-casting-session-with-peter-caverhill-certified-casting-instructor/
CATEGORIES:Method session
END:VEVENT
BEGIN:VEVENT
DTSTART;TZID=UTC:20260808T000000
DTEND;TZID=UTC:20260815T000000
DTSTAMP:20260420T003823
CREATED:20260109T094625Z
LAST-MODIFIED:20260112T164141Z
UID:4906-1786147200-1786752000@www.ospreyflyfishers.com
SUMMARY:Fishout - Beach Fishing at Cluxewe Resort
DESCRIPTION:Biennial Trip to the North End of Vancouver Island to beach fish for Pink Salmon\nCluxewe Resort has Cabins (12)\, RV sites and Camp sites (serviced and unserviced)\ncluxeweresort.com Reservations must be made VERY EARLY to ensure you get what you want\nReservations must be made on-line\nThey begin taking reservations in early January\nCheck early and often at campspot.com/book/cluxewe-resort\nContact: 250-949-0378\, Relax@CluxeweResort.com
URL:https://www.ospreyflyfishers.com/event/fishout-beach-fishing-at-cluxewe-resort/
END:VEVENT
END:VCALENDAR