BEGIN:VCALENDAR
VERSION:2.0
PRODID:-//Osprey Fly Fishers of B.C. - ECPv6.9.0//NONSGML v1.0//EN
CALSCALE:GREGORIAN
METHOD:PUBLISH
X-WR-CALNAME:Osprey Fly Fishers of B.C.
X-ORIGINAL-URL:https://www.ospreyflyfishers.com
X-WR-CALDESC:Events for Osprey Fly Fishers of B.C.
REFRESH-INTERVAL;VALUE=DURATION:PT1H
X-Robots-Tag:noindex
X-PUBLISHED-TTL:PT1H
BEGIN:VTIMEZONE
TZID:UTC
BEGIN:STANDARD
TZOFFSETFROM:+0000
TZOFFSETTO:+0000
TZNAME:UTC
DTSTART:20250101T000000
END:STANDARD
END:VTIMEZONE
BEGIN:VEVENT
DTSTART;TZID=UTC:20251105T190000
DTEND;TZID=UTC:20251105T220000
DTSTAMP:20260419T120635
CREATED:20251009T182310Z
LAST-MODIFIED:20251031T193453Z
UID:4843-1762369200-1762380000@www.ospreyflyfishers.com
SUMMARY:Executive Meeting - Pasta Pollo
DESCRIPTION:All Members are welcome to attend. No Guests. RSVP to Bruce.\nDiscuss Agenda of upcoming Closed Meeting\nPreparation of an agenda for upcoming year – Sept 2025 to June 2026.\n(Entertainment for Regular Meetings\, Method Sessions\, Fish Outs)
URL:https://www.ospreyflyfishers.com/event/executive-meeting-pasta-pollo/
CATEGORIES:Executive meeting
END:VEVENT
END:VCALENDAR