BEGIN:VCALENDAR
VERSION:2.0
PRODID:-//Osprey Fly Fishers of B.C. - ECPv6.9.0//NONSGML v1.0//EN
CALSCALE:GREGORIAN
METHOD:PUBLISH
X-WR-CALNAME:Osprey Fly Fishers of B.C.
X-ORIGINAL-URL:https://www.ospreyflyfishers.com
X-WR-CALDESC:Events for Osprey Fly Fishers of B.C.
REFRESH-INTERVAL;VALUE=DURATION:PT1H
X-Robots-Tag:noindex
X-PUBLISHED-TTL:PT1H
BEGIN:VTIMEZONE
TZID:UTC
BEGIN:STANDARD
TZOFFSETFROM:+0000
TZOFFSETTO:+0000
TZNAME:UTC
DTSTART:20250101T000000
END:STANDARD
END:VTIMEZONE
BEGIN:VEVENT
DTSTART;VALUE=DATE:20250619
DTEND;VALUE=DATE:20250620
DTSTAMP:20260423T104829
CREATED:20250103T151638Z
LAST-MODIFIED:20250103T151638Z
UID:4670-1750291200-1750377599@www.ospreyflyfishers.com
SUMMARY:METHOD SESSION - Casting Session with Peter Caverhill
DESCRIPTION:Winslow Oval @ 7:00 pm (Porter St & King Albert Ave)\nAdjourn to John B Pub for Libations & Appies.
URL:https://www.ospreyflyfishers.com/event/method-session-casting-session-with-peter-caverhill/
END:VEVENT
END:VCALENDAR