BEGIN:VCALENDAR
VERSION:2.0
PRODID:-//Osprey Fly Fishers of B.C. - ECPv6.9.0//NONSGML v1.0//EN
CALSCALE:GREGORIAN
METHOD:PUBLISH
X-ORIGINAL-URL:https://www.ospreyflyfishers.com
X-WR-CALDESC:Events for Osprey Fly Fishers of B.C.
REFRESH-INTERVAL;VALUE=DURATION:PT1H
X-Robots-Tag:noindex
X-PUBLISHED-TTL:PT1H
BEGIN:VTIMEZONE
TZID:UTC
BEGIN:STANDARD
TZOFFSETFROM:+0000
TZOFFSETTO:+0000
TZNAME:UTC
DTSTART:20250101T000000
END:STANDARD
END:VTIMEZONE
BEGIN:VEVENT
DTSTART;VALUE=DATE:20250612
DTEND;VALUE=DATE:20250613
DTSTAMP:20260423T105144
CREATED:20250103T151637Z
LAST-MODIFIED:20250103T151637Z
UID:4669-1749686400-1749772799@www.ospreyflyfishers.com
SUMMARY:REGULAR MEETING - Slideshow Presentation: Kwikwetlem First Nation Sockeye Hatchery
DESCRIPTION:Presenter: Rodney Lee.\nkʷikʷəƛ̓əm (Coquitlam) Sockeye Restoration: A journey to restoring a salmon stock and cultural identity\nJoint effort to restore Sockeye Salmon to Coquitlam River.\nHatchery being built next to dam on Upper Coquitlam River.
URL:https://www.ospreyflyfishers.com/event/regular-meeting-slideshow-presentation-kwikwetlem-first-nation-sockeye-hatchery-2/
END:VEVENT
END:VCALENDAR