BEGIN:VCALENDAR
VERSION:2.0
PRODID:-//Osprey Fly Fishers of B.C. - ECPv6.9.0//NONSGML v1.0//EN
CALSCALE:GREGORIAN
METHOD:PUBLISH
X-WR-CALNAME:Osprey Fly Fishers of B.C.
X-ORIGINAL-URL:https://www.ospreyflyfishers.com
X-WR-CALDESC:Events for Osprey Fly Fishers of B.C.
REFRESH-INTERVAL;VALUE=DURATION:PT1H
X-Robots-Tag:noindex
X-PUBLISHED-TTL:PT1H
BEGIN:VTIMEZONE
TZID:UTC
BEGIN:STANDARD
TZOFFSETFROM:+0000
TZOFFSETTO:+0000
TZNAME:UTC
DTSTART:20250101T000000
END:STANDARD
END:VTIMEZONE
BEGIN:VEVENT
DTSTART;VALUE=DATE:20250521
DTEND;VALUE=DATE:20250522
DTSTAMP:20260423T120524
CREATED:20250103T151635Z
LAST-MODIFIED:20250103T151635Z
UID:4667-1747785600-1747871999@www.ospreyflyfishers.com
SUMMARY:METHOD SESSION - Dubbing Materials & Techniques
DESCRIPTION:Presented by: Osprey Members\nDubbing Materials – new & old\, natural & synthetic. Choosing the right dubbing!\nTechniques: Touch\, Split Thread\, Loops & Brushes
URL:https://www.ospreyflyfishers.com/event/method-session-dubbing-materials-techniques/
END:VEVENT
END:VCALENDAR