BEGIN:VCALENDAR
VERSION:2.0
PRODID:-//Osprey Fly Fishers of B.C. - ECPv6.9.0//NONSGML v1.0//EN
CALSCALE:GREGORIAN
METHOD:PUBLISH
X-ORIGINAL-URL:https://www.ospreyflyfishers.com
X-WR-CALDESC:Events for Osprey Fly Fishers of B.C.
REFRESH-INTERVAL;VALUE=DURATION:PT1H
X-Robots-Tag:noindex
X-PUBLISHED-TTL:PT1H
BEGIN:VTIMEZONE
TZID:UTC
BEGIN:STANDARD
TZOFFSETFROM:+0000
TZOFFSETTO:+0000
TZNAME:UTC
DTSTART:20250101T000000
END:STANDARD
END:VTIMEZONE
BEGIN:VEVENT
DTSTART;TZID=UTC:20250413T080000
DTEND;TZID=UTC:20250413T170000
DTSTAMP:20260423T133954
CREATED:20250401T134911Z
LAST-MODIFIED:20250401T134911Z
UID:4707-1744531200-1744563600@www.ospreyflyfishers.com
SUMMARY:Club Outing - Tour of Richard Henly Fish Farm (Inland Farmed Sockeye Salmon)
DESCRIPTION:Important Parking Notice: See the April 2025 Newsletter \n\nTour Guide: Larry Albright\, one of the founding partners of the fish farm.\nLocation: 24831 – 80th Ave. Langley. Time: 10:30 am\nTour of farm to be followed by Q & A with coffee and donuts.
URL:https://www.ospreyflyfishers.com/event/club-outing-tour-of-richard-henly-fish-farm-inland-farmed-sockeye-salmon/
END:VEVENT
END:VCALENDAR