BEGIN:VCALENDAR
VERSION:2.0
PRODID:-//Osprey Fly Fishers of B.C. - ECPv6.9.0//NONSGML v1.0//EN
CALSCALE:GREGORIAN
METHOD:PUBLISH
X-ORIGINAL-URL:https://www.ospreyflyfishers.com
X-WR-CALDESC:Events for Osprey Fly Fishers of B.C.
REFRESH-INTERVAL;VALUE=DURATION:PT1H
X-Robots-Tag:noindex
X-PUBLISHED-TTL:PT1H
BEGIN:VTIMEZONE
TZID:UTC
BEGIN:STANDARD
TZOFFSETFROM:+0000
TZOFFSETTO:+0000
TZNAME:UTC
DTSTART:20250101T000000
END:STANDARD
END:VTIMEZONE
BEGIN:VEVENT
DTSTART;TZID=UTC:20250402T080000
DTEND;TZID=UTC:20250402T170000
DTSTAMP:20260423T134003
CREATED:20250401T133844Z
LAST-MODIFIED:20250401T133930Z
UID:4702-1743580800-1743613200@www.ospreyflyfishers.com
SUMMARY:Executive Meeting - Dinner Meeting
DESCRIPTION:No Guests \n\nAll Members are welcome to attend. \nPreparation of Agenda for AGM.\nPasta Pollo (2754 Barnet Hwy\, Coquitlam)\nRSVP to Bruce.
URL:https://www.ospreyflyfishers.com/event/executive-meeting-dinner-meeting/
END:VEVENT
END:VCALENDAR