BEGIN:VCALENDAR
VERSION:2.0
PRODID:-//Osprey Fly Fishers of B.C. - ECPv6.9.0//NONSGML v1.0//EN
CALSCALE:GREGORIAN
METHOD:PUBLISH
X-WR-CALNAME:Osprey Fly Fishers of B.C.
X-ORIGINAL-URL:https://www.ospreyflyfishers.com
X-WR-CALDESC:Events for Osprey Fly Fishers of B.C.
REFRESH-INTERVAL;VALUE=DURATION:PT1H
X-Robots-Tag:noindex
X-PUBLISHED-TTL:PT1H
BEGIN:VTIMEZONE
TZID:UTC
BEGIN:STANDARD
TZOFFSETFROM:+0000
TZOFFSETTO:+0000
TZNAME:UTC
DTSTART:20250101T000000
END:STANDARD
END:VTIMEZONE
BEGIN:VEVENT
DTSTART;VALUE=DATE:20250319
DTEND;VALUE=DATE:20250320
DTSTAMP:20260423T151134
CREATED:20250102T152814Z
LAST-MODIFIED:20250102T193106Z
UID:4635-1742342400-1742428799@www.ospreyflyfishers.com
SUMMARY:METHOD SESSION - Do It Yourself Projects
DESCRIPTION:Presented by: Peter Caverhill & Sandy McKinlay \n\nSexy Line Stripper\nBilge Pump\nLine & Materials Keepers\nBodkins\nThreaders\nProjects presented dependent on time.
URL:https://www.ospreyflyfishers.com/event/method-session-do-it-yourself-projects/
END:VEVENT
END:VCALENDAR