BEGIN:VCALENDAR
VERSION:2.0
PRODID:-//Osprey Fly Fishers of B.C. - ECPv6.9.0//NONSGML v1.0//EN
CALSCALE:GREGORIAN
METHOD:PUBLISH
X-WR-CALNAME:Osprey Fly Fishers of B.C.
X-ORIGINAL-URL:https://www.ospreyflyfishers.com
X-WR-CALDESC:Events for Osprey Fly Fishers of B.C.
REFRESH-INTERVAL;VALUE=DURATION:PT1H
X-Robots-Tag:noindex
X-PUBLISHED-TTL:PT1H
BEGIN:VTIMEZONE
TZID:UTC
BEGIN:STANDARD
TZOFFSETFROM:+0000
TZOFFSETTO:+0000
TZNAME:UTC
DTSTART:20250101T000000
END:STANDARD
END:VTIMEZONE
BEGIN:VEVENT
DTSTART;VALUE=DATE:20250212
DTEND;VALUE=DATE:20250213
DTSTAMP:20260423T164458
CREATED:20250102T152809Z
LAST-MODIFIED:20250103T041648Z
UID:4630-1739318400-1739404799@www.ospreyflyfishers.com
SUMMARY:REGULAR MEETING - Presentation: Harry Hawthorne Collection
DESCRIPTION:Presented by: Sally Taylor\, Head\, Woodward Library\, UBC. \n\nVast collection of fly fishing books. Osprey Fly Box is part of the collection.\nOrigins of the collection – Ongoing work to build the collection – The Foundation.
URL:https://www.ospreyflyfishers.com/event/regular-meeting-slideshow-presentation-kwikwetlem-first-nation-sockeye-hatchery/
END:VEVENT
END:VCALENDAR