BEGIN:VCALENDAR
VERSION:2.0
PRODID:-//Osprey Fly Fishers of B.C. - ECPv6.9.0//NONSGML v1.0//EN
CALSCALE:GREGORIAN
METHOD:PUBLISH
X-ORIGINAL-URL:https://www.ospreyflyfishers.com
X-WR-CALDESC:Events for Osprey Fly Fishers of B.C.
REFRESH-INTERVAL;VALUE=DURATION:PT1H
X-Robots-Tag:noindex
X-PUBLISHED-TTL:PT1H
BEGIN:VTIMEZONE
TZID:UTC
BEGIN:STANDARD
TZOFFSETFROM:+0000
TZOFFSETTO:+0000
TZNAME:UTC
DTSTART:20250101T000000
END:STANDARD
END:VTIMEZONE
BEGIN:VEVENT
DTSTART;VALUE=DATE:20250115
DTEND;VALUE=DATE:20250116
DTSTAMP:20260423T181946
CREATED:20250102T152807Z
LAST-MODIFIED:20250102T152807Z
UID:4628-1736899200-1736985599@www.ospreyflyfishers.com
SUMMARY:METHOD SESSION - Tying with Foam\, Anything but Boobies
DESCRIPTION:Demonstrated by: Martin Swain\, Sandy McKinlay\, Bruce Brandhorst \nStillwater and River Patterns
URL:https://www.ospreyflyfishers.com/event/method-session-tying-with-foam-anything-but-boobies/
END:VEVENT
END:VCALENDAR